BEGIN:VCALENDAR
VERSION:2.0
PRODID:icalendar-ruby
CALSCALE:GREGORIAN
BEGIN:VEVENT
DTSTAMP:20210122T075817Z
UID:61e85487-f72a-455c-bbcd-35030249aaa7
DTSTART;VALUE=DATE:20190911
DESCRIPTION:Property ID# 459969\, Time: 12:00PM
SUMMARY:Auction for 
END:VEVENT
END:VCALENDAR
