BEGIN:VCALENDAR
VERSION:2.0
PRODID:icalendar-ruby
CALSCALE:GREGORIAN
BEGIN:VEVENT
DTSTAMP:20210122T075814Z
UID:f32e59fe-2f7a-4e71-a616-220f3b984a96
DTSTART;VALUE=DATE:20200226
DESCRIPTION:Property ID# 471681\, Locatoin: Offers close 4:00 pm - Unless s
 old prior\, Time: 4:00PM
SUMMARY:Auction for 
END:VEVENT
END:VCALENDAR
