BEGIN:VCALENDAR
VERSION:2.0
PRODID:icalendar-ruby
CALSCALE:GREGORIAN
BEGIN:VEVENT
DTSTAMP:20210122T075813Z
UID:d52d15c5-56fd-44cd-b846-699da24ab3c2
DTSTART;VALUE=DATE:20200930
DESCRIPTION:Property ID# 489303\, Locatoin: Offers close 4:00 pm unless sol
 d prior\, Time: 12:00PM
SUMMARY:Auction for 
END:VEVENT
END:VCALENDAR
