BEGIN:VCALENDAR
VERSION:2.0
PRODID:icalendar-ruby
CALSCALE:GREGORIAN
BEGIN:VEVENT
DTSTAMP:20210122T075807Z
UID:b3d62a68-f145-46ac-b3e0-25b1115387f5
DTSTART;VALUE=DATE:20201126
DESCRIPTION:Property ID# 494334\, Locatoin: Onsite unless sold prior\, Time
 : 12:00PM
SUMMARY:Auction for 
END:VEVENT
END:VCALENDAR
